BEGIN:VCALENDAR
VERSION:2.0
PRODID:-//Blue Space Highland - ECPv6.15.20//NONSGML v1.0//EN
CALSCALE:GREGORIAN
METHOD:PUBLISH
X-ORIGINAL-URL:https://bluespacehighland.org
X-WR-CALDESC:Events for Blue Space Highland
REFRESH-INTERVAL;VALUE=DURATION:PT1H
X-Robots-Tag:noindex
X-PUBLISHED-TTL:PT1H
BEGIN:VTIMEZONE
TZID:Europe/Paris
BEGIN:DAYLIGHT
TZOFFSETFROM:+0100
TZOFFSETTO:+0200
TZNAME:CEST
DTSTART:20250330T010000
END:DAYLIGHT
BEGIN:STANDARD
TZOFFSETFROM:+0200
TZOFFSETTO:+0100
TZNAME:CET
DTSTART:20251026T010000
END:STANDARD
BEGIN:DAYLIGHT
TZOFFSETFROM:+0100
TZOFFSETTO:+0200
TZNAME:CEST
DTSTART:20260329T010000
END:DAYLIGHT
BEGIN:STANDARD
TZOFFSETFROM:+0200
TZOFFSETTO:+0100
TZNAME:CET
DTSTART:20261025T010000
END:STANDARD
BEGIN:DAYLIGHT
TZOFFSETFROM:+0100
TZOFFSETTO:+0200
TZNAME:CEST
DTSTART:20270328T010000
END:DAYLIGHT
BEGIN:STANDARD
TZOFFSETFROM:+0200
TZOFFSETTO:+0100
TZNAME:CET
DTSTART:20271031T010000
END:STANDARD
END:VTIMEZONE
BEGIN:VEVENT
DTSTART;TZID=Europe/Paris:20260202T190000
DTEND;TZID=Europe/Paris:20260202T210000
DTSTAMP:20260424T221624
CREATED:20251231T122717Z
LAST-MODIFIED:20251231T122717Z
UID:10000096-1770058800-1770066000@bluespacehighland.org
SUMMARY:Nairn Night Walk - Children's Special
DESCRIPTION:Join Will for a unique night of exploration and learning as we untangle the mysteries of the night sky. We’ll learn how to navigate using the stars and natural world\, use powerful UV torches to see beyond what the human eye can normally see\, learn all about the folklore of the stars and delve into the wildlife which comes out at night. All in the beautiful (and windswept) Nairn beach. \nThis event is aimed at children but a responsible adult is needed to book and join them for the experience! \nWe would particularly welcome families who could not normally afford an experience like this. \nMeeting at the Nairn West Golf Club carpark. \n\n\n\n\n\n\n\n\n\nWhat to bring: Warm clothing\, waterproofs\, sturdy footwear\, hat/gloves\, a head torch (red light if possible)\, binoculars (optional)\, hot drink in a flask.
URL:https://bluespacehighland.org/event/nairn-night-walk-childrens-special/
LOCATION:Nairn West Golf Club\, Seabank Road\, Nairn\, V12 4HB\, United Kingdom
ATTACH;FMTTYPE=image/webp:https://bluespacehighland.org/wp-content/uploads/2025/12/NightSkyWalksPoster.png-e1764590730715.webp
ORGANIZER;CN="Will Hall Wildlife":MAILTO:williamroberthall@hotmail.co.uk
GEO:57.587819;-3.895605
X-APPLE-STRUCTURED-LOCATION;VALUE=URI;X-ADDRESS=Nairn West Golf Club Seabank Road Nairn V12 4HB United Kingdom;X-APPLE-RADIUS=500;X-TITLE=Seabank Road:geo:-3.895605,57.587819
END:VEVENT
BEGIN:VEVENT
DTSTART;TZID=Europe/Paris:20260105T190000
DTEND;TZID=Europe/Paris:20260105T210000
DTSTAMP:20260424T221624
CREATED:20251201T130126Z
LAST-MODIFIED:20251203T164110Z
UID:10000091-1767639600-1767646800@bluespacehighland.org
SUMMARY:Nairn Night Walk
DESCRIPTION:Join Will for a unique twelfth night of exploration and learning as we untangle the mysteries of the night sky. We’ll learn how to navigate using the stars and natural world\, use powerful UV torches to see beyond what the human eye can normally see\, learn all about the folklore of the stars and delve into the wildlife which comes out at night. All in the beautiful (and windswept) Nairn beach. \nThis event is perfect for adults and children alike! \nWe would particularly welcome families who could not normally afford an experience like this. \nMeeting at the Nairn West Golf Club carpark. \n\n\n\n\n\n\n\n\n\nWhat to bring: Warm clothing\, waterproofs\, sturdy footwear\, hat/gloves\, a head torch (red light if possible)\, binoculars (optional)\, hot drink in a flask.
URL:https://bluespacehighland.org/event/nairn-night-walk/
LOCATION:Nairn West Golf Club\, Seabank Road\, Nairn\, V12 4HB\, United Kingdom
ATTACH;FMTTYPE=image/webp:https://bluespacehighland.org/wp-content/uploads/2025/12/NightSkyWalksPoster.png-e1764590730715.webp
ORGANIZER;CN="Will Hall Wildlife":MAILTO:williamroberthall@hotmail.co.uk
GEO:57.587819;-3.895605
X-APPLE-STRUCTURED-LOCATION;VALUE=URI;X-ADDRESS=Nairn West Golf Club Seabank Road Nairn V12 4HB United Kingdom;X-APPLE-RADIUS=500;X-TITLE=Seabank Road:geo:-3.895605,57.587819
END:VEVENT
END:VCALENDAR