BEGIN:VCALENDAR
VERSION:2.0
PRODID:-//Blue Space Highland - ECPv6.15.20//NONSGML v1.0//EN
CALSCALE:GREGORIAN
METHOD:PUBLISH
X-ORIGINAL-URL:https://bluespacehighland.org
X-WR-CALDESC:Events for Blue Space Highland
REFRESH-INTERVAL;VALUE=DURATION:PT1H
X-Robots-Tag:noindex
X-PUBLISHED-TTL:PT1H
BEGIN:VTIMEZONE
TZID:Europe/London
BEGIN:DAYLIGHT
TZOFFSETFROM:+0000
TZOFFSETTO:+0100
TZNAME:BST
DTSTART:20250330T010000
END:DAYLIGHT
BEGIN:STANDARD
TZOFFSETFROM:+0100
TZOFFSETTO:+0000
TZNAME:GMT
DTSTART:20251026T010000
END:STANDARD
BEGIN:DAYLIGHT
TZOFFSETFROM:+0000
TZOFFSETTO:+0100
TZNAME:BST
DTSTART:20260329T010000
END:DAYLIGHT
BEGIN:STANDARD
TZOFFSETFROM:+0100
TZOFFSETTO:+0000
TZNAME:GMT
DTSTART:20261025T010000
END:STANDARD
BEGIN:DAYLIGHT
TZOFFSETFROM:+0000
TZOFFSETTO:+0100
TZNAME:BST
DTSTART:20270328T010000
END:DAYLIGHT
BEGIN:STANDARD
TZOFFSETFROM:+0100
TZOFFSETTO:+0000
TZNAME:GMT
DTSTART:20271031T010000
END:STANDARD
END:VTIMEZONE
BEGIN:VEVENT
DTSTART;TZID=Europe/London:20260517T103000
DTEND;TZID=Europe/London:20260517T130000
DTSTAMP:20260424T142630
CREATED:20260323T093302Z
LAST-MODIFIED:20260323T093615Z
UID:10000125-1779013800-1779022800@bluespacehighland.org
SUMMARY:Family Mindful Pottery Workshop
DESCRIPTION:  \nReconnect with the calming influence of blue spaces in this relaxed\, hands-on pottery workshop. Inspired by the sea\, you’ll create your own ceramic wall hanging\, plate\, or bowl while enjoying the mindful process of working with clay. \nNo experience is needed. You’ll be guided step by step through hand-building techniques in a calm\, friendly environment. \nIn this workshop you’ll learn: \n\nHand-building techniques to create your own ceramic form\nHow to decorate with colourful slips using brushes\, sponges\, and tools\nHow to add textures and personal details inspired by the sea\nHow to refine your piece ready for kiln firing\n\nThis is a chance to slow down\, try something new\, connect with others\, and enjoy the creative process as a family. \nDuration: 2.5hrs \nWhat to bring:\nPlease wear old clothes or bring an apron\, as clay can be messy. \nCollection:\nYour work will be professionally fired and glazed\, ready to collect approximately two weeks after the workshop. \nAll clay\, tools\, materials\, and firings are included.
URL:https://bluespacehighland.org/event/family-mindful-pottery-workshop/
LOCATION:Greenhive Seaman’s Hall\, Harbour Street\, Nairn\, Nairn\, IV12 4PY\, United Kingdom
ATTACH;FMTTYPE=image/jpeg:https://bluespacehighland.org/wp-content/uploads/2026/03/unnamed-10-scaled.jpg
ORGANIZER;CN="The Slip Studio":MAILTO:hello@theslipstudio.co.uk
END:VEVENT
BEGIN:VEVENT
DTSTART;TZID=Europe/London:20260531T103000
DTEND;TZID=Europe/London:20260531T130000
DTSTAMP:20260424T142630
CREATED:20260323T093416Z
LAST-MODIFIED:20260323T093416Z
UID:10000126-1780223400-1780232400@bluespacehighland.org
SUMMARY:Family Mindful Pottery Workshop
DESCRIPTION:  \nReconnect with the calming influence of blue spaces in this relaxed\, hands-on pottery workshop. Inspired by the sea\, you’ll create your own ceramic wall hanging\, plate\, or bowl while enjoying the mindful process of working with clay. \nNo experience is needed. You’ll be guided step by step through hand-building techniques in a calm\, friendly environment. \nIn this workshop you’ll learn: \n\nHand-building techniques to create your own ceramic form\nHow to decorate with colourful slips using brushes\, sponges\, and tools\nHow to add textures and personal details inspired by the sea\nHow to refine your piece ready for kiln firing\n\nThis is a chance to slow down\, try something new\, connect with others\, and enjoy the creative process as a family. \nDuration: 2.5hrs \nWhat to bring:\nPlease wear old clothes or bring an apron\, as clay can be messy. \nCollection:\nYour work will be professionally fired and glazed\, ready to collect approximately two weeks after the workshop. \nAll clay\, tools\, materials\, and firings are included.
URL:https://bluespacehighland.org/event/family-mindful-pottery-workshop-2/
LOCATION:Greenhive Seaman’s Hall\, Harbour Street\, Nairn\, Nairn\, IV12 4PY\, United Kingdom
ATTACH;FMTTYPE=image/jpeg:https://bluespacehighland.org/wp-content/uploads/2026/03/unnamed-10-scaled.jpg
ORGANIZER;CN="The Slip Studio":MAILTO:hello@theslipstudio.co.uk
END:VEVENT
END:VCALENDAR