BEGIN:VCALENDAR
VERSION:2.0
PRODID:-//Blue Space Highland - ECPv6.15.20//NONSGML v1.0//EN
CALSCALE:GREGORIAN
METHOD:PUBLISH
X-WR-CALNAME:Blue Space Highland
X-ORIGINAL-URL:https://bluespacehighland.org
X-WR-CALDESC:Events for Blue Space Highland
REFRESH-INTERVAL;VALUE=DURATION:PT1H
X-Robots-Tag:noindex
X-PUBLISHED-TTL:PT1H
BEGIN:VTIMEZONE
TZID:Europe/London
BEGIN:DAYLIGHT
TZOFFSETFROM:+0000
TZOFFSETTO:+0100
TZNAME:BST
DTSTART:20250330T010000
END:DAYLIGHT
BEGIN:STANDARD
TZOFFSETFROM:+0100
TZOFFSETTO:+0000
TZNAME:GMT
DTSTART:20251026T010000
END:STANDARD
BEGIN:DAYLIGHT
TZOFFSETFROM:+0000
TZOFFSETTO:+0100
TZNAME:BST
DTSTART:20260329T010000
END:DAYLIGHT
BEGIN:STANDARD
TZOFFSETFROM:+0100
TZOFFSETTO:+0000
TZNAME:GMT
DTSTART:20261025T010000
END:STANDARD
BEGIN:DAYLIGHT
TZOFFSETFROM:+0000
TZOFFSETTO:+0100
TZNAME:BST
DTSTART:20270328T010000
END:DAYLIGHT
BEGIN:STANDARD
TZOFFSETFROM:+0100
TZOFFSETTO:+0000
TZNAME:GMT
DTSTART:20271031T010000
END:STANDARD
END:VTIMEZONE
BEGIN:VEVENT
DTSTART;TZID=Europe/London:20260426T120000
DTEND;TZID=Europe/London:20260426T150000
DTSTAMP:20260424T163759
CREATED:20260305T215307Z
LAST-MODIFIED:20260323T153113Z
UID:10000118-1777204800-1777215600@bluespacehighland.org
SUMMARY:Wild Medicine Breathwork with Pamela Taylor.
DESCRIPTION:There are times in life when we lose our sense of grounding… when everything feels heavy\, overwhelming\, or simply too much. \nI know this feeling well. Breathwork became my own place of comfort – a way to come back into my body\, \nto release what I had been holding\, and to find moments of peace again. \n\nWhen I first experienced the Wild Medicine Breathwork\, something shifted. The warmth\, the energy\, the release\, the deep sense of connection… it reminded  me of who I was beneath the stress\, beneath the worry\, beneath the noise. It felt like coming home.\nAnd that is why I felt called to train in this – to offer that same gentle space to others. \nWild Medicine Breathwork is not about trying harder or fixing yourself. It’s about being held in a soft\, supported environment where you can breathe\, feel\, and reconnect in your own time. With simple guided breath\, grounding music\, and compassionate presence\, this practice helps your mind settle and your body let go of tension you may not even realise you’ve been carrying.\nThis space is especially for those who are struggling\, feeling fragile\, or finding their way through difficult emotions. You don’t need to be anything other than who you are\, exactly as you are. \nIf the weather allows\, we’ll take our practice outdoors to the beach in Nairn. We’ll gently gather natural treasures along the way – flowers\, pebbles\, shells\, twigs – and together create a beautiful mandala on the sand. This simple ritual helps us slow down\, connect with nature\, and set our intention before we settle into our breathwork journey. If conditions aren’t appropriate outdoors the session will be delivered at the Seaman’s Hall in Nairn. \nConnect with nature \nCreate together \nBreathe\, release and restore \nPLEASE NOTE: \nIf all tickets are issued please add your name to the waiting list and explain your reasons for referral.
URL:https://bluespacehighland.org/event/wild-medicine-breathwork-with-pamela-taylor-2/
LOCATION:Nairn
ATTACH;FMTTYPE=image/jpeg:https://bluespacehighland.org/wp-content/uploads/2025/12/WhatsApp-Image-2025-12-07-at-10.17.28-e1765102910638.jpeg
ORGANIZER;CN="Sole to Soul Therapies":MAILTO:info@soletosoul-therapies.co.uk
END:VEVENT
END:VCALENDAR