BEGIN:VCALENDAR
VERSION:2.0
PRODID:-//Blue Space Highland - ECPv6.15.20//NONSGML v1.0//EN
CALSCALE:GREGORIAN
METHOD:PUBLISH
X-ORIGINAL-URL:https://bluespacehighland.org
X-WR-CALDESC:Events for Blue Space Highland
REFRESH-INTERVAL;VALUE=DURATION:PT1H
X-Robots-Tag:noindex
X-PUBLISHED-TTL:PT1H
BEGIN:VTIMEZONE
TZID:Europe/London
BEGIN:DAYLIGHT
TZOFFSETFROM:+0000
TZOFFSETTO:+0100
TZNAME:BST
DTSTART:20250330T010000
END:DAYLIGHT
BEGIN:STANDARD
TZOFFSETFROM:+0100
TZOFFSETTO:+0000
TZNAME:GMT
DTSTART:20251026T010000
END:STANDARD
BEGIN:DAYLIGHT
TZOFFSETFROM:+0000
TZOFFSETTO:+0100
TZNAME:BST
DTSTART:20260329T010000
END:DAYLIGHT
BEGIN:STANDARD
TZOFFSETFROM:+0100
TZOFFSETTO:+0000
TZNAME:GMT
DTSTART:20261025T010000
END:STANDARD
BEGIN:DAYLIGHT
TZOFFSETFROM:+0000
TZOFFSETTO:+0100
TZNAME:BST
DTSTART:20270328T010000
END:DAYLIGHT
BEGIN:STANDARD
TZOFFSETFROM:+0100
TZOFFSETTO:+0000
TZNAME:GMT
DTSTART:20271031T010000
END:STANDARD
END:VTIMEZONE
BEGIN:VEVENT
DTSTART;TZID=Europe/London:20261105T180000
DTEND;TZID=Europe/London:20261105T190000
DTSTAMP:20260425T033527
CREATED:20260311T125217Z
LAST-MODIFIED:20260417T100900Z
UID:10000160-1793901600-1793905200@bluespacehighland.org
SUMMARY:Mens Yoga
DESCRIPTION:This is a free weekly beginner class for men supported by Blue Space Highland\, Greenhive and the Haventus Ardersier Port Community Fund. \nDonations are welcome to support the class. \n \n  \nRegister        \n            \n                ×\n\n                Register\n\n                \n                    \n                        Website\n                        \n                    \n                    \n\n                    \n                        Name\n                        \n                    \n\n                    \n                        Event Date\n                        \n                    \n\n                    \n                        Email Address\n                        \n                    \n\n                    \n\n                    Submit Registration\n                \n\n                                    \n                        Make Donation
URL:https://bluespacehighland.org/event/mens-yoga-5/2026-11-05/
LOCATION:Greenhive Seaman’s Hall\, Harbour Street\, Nairn\, Nairn\, IV12 4PY\, United Kingdom
ATTACH;FMTTYPE=image/jpeg:https://bluespacehighland.org/wp-content/uploads/2025/05/menyoga-e1746629117902.jpeg
ORGANIZER;CN="Blue Space Highland":MAILTO:info@moraykayaking.co.uk
END:VEVENT
BEGIN:VEVENT
DTSTART;TZID=Europe/London:20261112T180000
DTEND;TZID=Europe/London:20261112T190000
DTSTAMP:20260425T033527
CREATED:20260311T125217Z
LAST-MODIFIED:20260417T100900Z
UID:10000161-1794506400-1794510000@bluespacehighland.org
SUMMARY:Mens Yoga
DESCRIPTION:This is a free weekly beginner class for men supported by Blue Space Highland\, Greenhive and the Haventus Ardersier Port Community Fund. \nDonations are welcome to support the class. \n \n  \nRegister
URL:https://bluespacehighland.org/event/mens-yoga-5/2026-11-12/
LOCATION:Greenhive Seaman’s Hall\, Harbour Street\, Nairn\, Nairn\, IV12 4PY\, United Kingdom
ATTACH;FMTTYPE=image/jpeg:https://bluespacehighland.org/wp-content/uploads/2025/05/menyoga-e1746629117902.jpeg
ORGANIZER;CN="Blue Space Highland":MAILTO:info@moraykayaking.co.uk
END:VEVENT
BEGIN:VEVENT
DTSTART;TZID=Europe/London:20261119T180000
DTEND;TZID=Europe/London:20261119T190000
DTSTAMP:20260425T033527
CREATED:20260311T125217Z
LAST-MODIFIED:20260417T100900Z
UID:10000162-1795111200-1795114800@bluespacehighland.org
SUMMARY:Mens Yoga
DESCRIPTION:This is a free weekly beginner class for men supported by Blue Space Highland\, Greenhive and the Haventus Ardersier Port Community Fund. \nDonations are welcome to support the class. \n \n  \nRegister
URL:https://bluespacehighland.org/event/mens-yoga-5/2026-11-19/
LOCATION:Greenhive Seaman’s Hall\, Harbour Street\, Nairn\, Nairn\, IV12 4PY\, United Kingdom
ATTACH;FMTTYPE=image/jpeg:https://bluespacehighland.org/wp-content/uploads/2025/05/menyoga-e1746629117902.jpeg
ORGANIZER;CN="Blue Space Highland":MAILTO:info@moraykayaking.co.uk
END:VEVENT
BEGIN:VEVENT
DTSTART;TZID=Europe/London:20261126T180000
DTEND;TZID=Europe/London:20261126T190000
DTSTAMP:20260425T033527
CREATED:20260311T125217Z
LAST-MODIFIED:20260417T100900Z
UID:10000163-1795716000-1795719600@bluespacehighland.org
SUMMARY:Mens Yoga
DESCRIPTION:This is a free weekly beginner class for men supported by Blue Space Highland\, Greenhive and the Haventus Ardersier Port Community Fund. \nDonations are welcome to support the class. \n \n  \nRegister
URL:https://bluespacehighland.org/event/mens-yoga-5/2026-11-26/
LOCATION:Greenhive Seaman’s Hall\, Harbour Street\, Nairn\, Nairn\, IV12 4PY\, United Kingdom
ATTACH;FMTTYPE=image/jpeg:https://bluespacehighland.org/wp-content/uploads/2025/05/menyoga-e1746629117902.jpeg
ORGANIZER;CN="Blue Space Highland":MAILTO:info@moraykayaking.co.uk
END:VEVENT
END:VCALENDAR